BEGIN:VCALENDAR
VERSION:2.0
PRODID:Caminhada da Liberdade Solidária
X-WR-CALNAME:Caminhada da Liberdade Solidária
X-WR-TIMEZONE:Europe/Lisbon
X-PUBLISHED-TTL:P1W
BEGIN:VTIMEZONE
TZID:Europe/Lisbon
X-LIC-LOCATION:Europe/Lisbon
END:VTIMEZONE
BEGIN:VEVENT
UID:69e7676ab018a
DTSTART;VALUE=DATE:20250426
SEQUENCE:0
TRANSP:OPAQUE
DTEND;VALUE=DATE:20250427
SUMMARY:Caminhada da Liberdade Solidária
CLASS:PUBLIC
DESCRIPTION:Caminhada da Liberdade Solidária\, inserida nas comemorações
  do 25 de Abril vamos celebrar a liberdade e os direitos conquistados com 
 a Revolução de 1974\, ao mesmo tempo que promovemos a solidariedade e o 
 apoio a causas importantes. Liga Portuguesa Contra o Cancro - Núcleo Reg
 ional NorteInscrições na Sede da Freguesia\, no horário das 14h às 17h
  de segunda a sexta-feira
X-MICROSOFT-CDO-ALLDAYEVENT:TRUE
DTSTAMP:20260421T120250Z
END:VEVENT
END:VCALENDAR