BEGIN:VCALENDAR
VERSION:2.0
PRODID:Festa São João - Padroeiro  do Município
X-WR-CALNAME:Festa São João - Padroeiro  do Município
X-WR-TIMEZONE:Europe/Lisbon
X-PUBLISHED-TTL:P1W
BEGIN:VTIMEZONE
TZID:Europe/Lisbon
X-LIC-LOCATION:Europe/Lisbon
END:VTIMEZONE
BEGIN:VEVENT
UID:69e766b2cb45e
DTSTART;VALUE=DATE:20250624
SEQUENCE:0
TRANSP:OPAQUE
DTEND;VALUE=DATE:20250625
SUMMARY:Festa São João - Padroeiro  do Município
CLASS:PUBLIC
DESCRIPTION:O São João é celebrado desde há muitas décadas em Armam
 ar com honras de Festas do Município. O dia 24 de junho é o dia feriado
  municipal. As tradições associadas a esta data perdem-se no tempo e os 
 Armamarenses mantêm-nas vivas.
X-MICROSOFT-CDO-ALLDAYEVENT:TRUE
DTSTAMP:20260421T115946Z
END:VEVENT
END:VCALENDAR